BEGIN:VCALENDAR
VERSION:2.0
PRODID:-//Antietam Valley Municipal Authority - ECPv6.15.20//NONSGML v1.0//EN
CALSCALE:GREGORIAN
METHOD:PUBLISH
X-WR-CALNAME:Antietam Valley Municipal Authority
X-ORIGINAL-URL:https://antietamauthority.org
X-WR-CALDESC:Events for Antietam Valley Municipal Authority
REFRESH-INTERVAL;VALUE=DURATION:PT1H
X-Robots-Tag:noindex
X-PUBLISHED-TTL:PT1H
BEGIN:VTIMEZONE
TZID:UTC
BEGIN:STANDARD
TZOFFSETFROM:+0000
TZOFFSETTO:+0000
TZNAME:UTC
DTSTART:20250101T000000
END:STANDARD
END:VTIMEZONE
BEGIN:VEVENT
DTSTART;TZID=UTC:20260423T180000
DTEND;TZID=UTC:20260423T200000
DTSTAMP:20260423T122919
CREATED:20250912T204705Z
LAST-MODIFIED:20250912T204705Z
UID:1047-1776967200-1776974400@antietamauthority.org
SUMMARY:AVMA BOARD MEETING
DESCRIPTION:
URL:https://antietamauthority.org/event/avma-board-meeting-8/
END:VEVENT
END:VCALENDAR